BEGIN:VCALENDAR
VERSION:2.0
PRODID:-//Auvergne Optic Mobile - ECPv4.5.13//NONSGML v1.0//EN
CALSCALE:GREGORIAN
METHOD:PUBLISH
X-WR-CALNAME:Auvergne Optic Mobile
X-ORIGINAL-URL:https://www.auvergneopticmobile.fr
X-WR-CALDESC:Events for Auvergne Optic Mobile
BEGIN:VEVENT
DTSTART;TZID=Europe/Paris:20260319T090000
DTEND;TZID=Europe/Paris:20260319T120000
DTSTAMP:20260423T080925
CREATED:20260323T110543Z
LAST-MODIFIED:20260323T110543Z
UID:10265-1773910800-1773921600@www.auvergneopticmobile.fr
SUMMARY:COURNON
DESCRIPTION:
URL:https://www.auvergneopticmobile.fr/event/cournon-53/
LOCATION:COURNON\, 63800\, France
END:VEVENT
BEGIN:VEVENT
DTSTART;TZID=Europe/Paris:20260319T130000
DTEND;TZID=Europe/Paris:20260319T170000
DTSTAMP:20260423T080926
CREATED:20260323T110710Z
LAST-MODIFIED:20260323T110720Z
UID:10268-1773925200-1773939600@www.auvergneopticmobile.fr
SUMMARY:PONT DU CHATEAU
DESCRIPTION:
URL:https://www.auvergneopticmobile.fr/event/pont-du-chateau-72/
LOCATION:PONT DU CHATEAU\, 63430\, France
END:VEVENT
END:VCALENDAR