BEGIN:VCALENDAR
VERSION:2.0
PRODID:-//Auvergne Optic Mobile - ECPv4.5.13//NONSGML v1.0//EN
CALSCALE:GREGORIAN
METHOD:PUBLISH
X-WR-CALNAME:Auvergne Optic Mobile
X-ORIGINAL-URL:https://www.auvergneopticmobile.fr
X-WR-CALDESC:Events for Auvergne Optic Mobile
BEGIN:VEVENT
DTSTART;TZID=Europe/Paris:20260318T100000
DTEND;TZID=Europe/Paris:20260318T120000
DTSTAMP:20260423T065110
CREATED:20260323T110445Z
LAST-MODIFIED:20260323T110445Z
UID:10259-1773828000-1773835200@www.auvergneopticmobile.fr
SUMMARY:SAINT AMANT TALLENDE
DESCRIPTION:
URL:https://www.auvergneopticmobile.fr/event/saint-amant-tallende-31/
LOCATION:SAINT AMANT TALLENDE\, 63450\, France
END:VEVENT
BEGIN:VEVENT
DTSTART;TZID=Europe/Paris:20260318T140000
DTEND;TZID=Europe/Paris:20260318T190000
DTSTAMP:20260423T065110
CREATED:20260323T110515Z
LAST-MODIFIED:20260323T110515Z
UID:10262-1773842400-1773860400@www.auvergneopticmobile.fr
SUMMARY:ISSOIRE
DESCRIPTION:
URL:https://www.auvergneopticmobile.fr/event/issoire-39/
LOCATION:ISSOIRE\, 63500\, France
END:VEVENT
END:VCALENDAR