BEGIN:VCALENDAR
VERSION:2.0
PRODID:-//Auvergne Optic Mobile - ECPv4.5.13//NONSGML v1.0//EN
CALSCALE:GREGORIAN
METHOD:PUBLISH
X-WR-CALNAME:Auvergne Optic Mobile
X-ORIGINAL-URL:https://www.auvergneopticmobile.fr
X-WR-CALDESC:Events for Auvergne Optic Mobile
BEGIN:VEVENT
DTSTART;TZID=Europe/Paris:20260317T100000
DTEND;TZID=Europe/Paris:20260317T120000
DTSTAMP:20260423T053609
CREATED:20260323T110310Z
LAST-MODIFIED:20260323T110310Z
UID:10250-1773741600-1773748800@www.auvergneopticmobile.fr
SUMMARY:SAINT BAUZIRE
DESCRIPTION:
URL:https://www.auvergneopticmobile.fr/event/saint-bauzire-3/
LOCATION:SAINT BAUZIRE\, 63360\, France
END:VEVENT
BEGIN:VEVENT
DTSTART;TZID=Europe/Paris:20260317T130000
DTEND;TZID=Europe/Paris:20260317T170000
DTSTAMP:20260423T053609
CREATED:20260323T110337Z
LAST-MODIFIED:20260323T110337Z
UID:10253-1773752400-1773766800@www.auvergneopticmobile.fr
SUMMARY:BILLOM
DESCRIPTION:
URL:https://www.auvergneopticmobile.fr/event/billom-110/
LOCATION:63160
END:VEVENT
BEGIN:VEVENT
DTSTART;TZID=Europe/Paris:20260317T173000
DTEND;TZID=Europe/Paris:20260317T210000
DTSTAMP:20260423T053609
CREATED:20260323T110412Z
LAST-MODIFIED:20260323T110412Z
UID:10256-1773768600-1773781200@www.auvergneopticmobile.fr
SUMMARY:CEBAZAT
DESCRIPTION:
URL:https://www.auvergneopticmobile.fr/event/cebazat-91/
LOCATION:CEBAZAT\, 63118\, France
END:VEVENT
END:VCALENDAR