BEGIN:VCALENDAR
VERSION:2.0
PRODID:-//Auvergne Optic Mobile - ECPv4.5.13//NONSGML v1.0//EN
CALSCALE:GREGORIAN
METHOD:PUBLISH
X-WR-CALNAME:Auvergne Optic Mobile
X-ORIGINAL-URL:https://www.auvergneopticmobile.fr
X-WR-CALDESC:Events for Auvergne Optic Mobile
BEGIN:VEVENT
DTSTART;TZID=Europe/Paris:20260316T090000
DTEND;TZID=Europe/Paris:20260316T120000
DTSTAMP:20260423T041702
CREATED:20260323T110147Z
LAST-MODIFIED:20260323T110147Z
UID:10244-1773651600-1773662400@www.auvergneopticmobile.fr
SUMMARY:AYDAT
DESCRIPTION:
URL:https://www.auvergneopticmobile.fr/event/aydat-40/
LOCATION:AYDAT\, 63970\, France
END:VEVENT
BEGIN:VEVENT
DTSTART;TZID=Europe/Paris:20260316T140000
DTEND;TZID=Europe/Paris:20260316T170000
DTSTAMP:20260423T041702
CREATED:20260323T110216Z
LAST-MODIFIED:20260323T110216Z
UID:10247-1773669600-1773680400@www.auvergneopticmobile.fr
SUMMARY:ROMAGNAT
DESCRIPTION:
URL:https://www.auvergneopticmobile.fr/event/romagnat-55/
LOCATION:ROMAGNAT\, 63540\, France
END:VEVENT
END:VCALENDAR