BEGIN:VCALENDAR
VERSION:2.0
PRODID:-//Auvergne Optic Mobile - ECPv4.5.13//NONSGML v1.0//EN
CALSCALE:GREGORIAN
METHOD:PUBLISH
X-WR-CALNAME:Auvergne Optic Mobile
X-ORIGINAL-URL:https://www.auvergneopticmobile.fr
X-WR-CALDESC:Events for Auvergne Optic Mobile
BEGIN:VEVENT
DTSTART;TZID=Europe/Paris:20260306T080000
DTEND;TZID=Europe/Paris:20260306T170000
DTSTAMP:20260422T150859
CREATED:20260309T090653Z
LAST-MODIFIED:20260309T090653Z
UID:10210-1772784000-1772816400@www.auvergneopticmobile.fr
SUMMARY:ISSOIRE
DESCRIPTION:
URL:https://www.auvergneopticmobile.fr/event/issoire-38/
LOCATION:ISSOIRE\, 63500\, France
END:VEVENT
END:VCALENDAR