BEGIN:VCALENDAR
VERSION:2.0
PRODID:-//Auvergne Optic Mobile - ECPv4.5.13//NONSGML v1.0//EN
CALSCALE:GREGORIAN
METHOD:PUBLISH
X-WR-CALNAME:Auvergne Optic Mobile
X-ORIGINAL-URL:https://www.auvergneopticmobile.fr
X-WR-CALDESC:Events for Auvergne Optic Mobile
BEGIN:VEVENT
DTSTART;TZID=Europe/Paris:20260304T090000
DTEND;TZID=Europe/Paris:20260304T120000
DTSTAMP:20260422T122305
CREATED:20260309T090420Z
LAST-MODIFIED:20260309T090420Z
UID:10198-1772614800-1772625600@www.auvergneopticmobile.fr
SUMMARY:BILLOM
DESCRIPTION:
URL:https://www.auvergneopticmobile.fr/event/billom-108/
LOCATION:63160
END:VEVENT
BEGIN:VEVENT
DTSTART;TZID=Europe/Paris:20260304T133000
DTEND;TZID=Europe/Paris:20260304T200000
DTSTAMP:20260422T122305
CREATED:20260309T090507Z
LAST-MODIFIED:20260309T090507Z
UID:10201-1772631000-1772654400@www.auvergneopticmobile.fr
SUMMARY:CLERMONT FERRAND
DESCRIPTION:
URL:https://www.auvergneopticmobile.fr/event/clermont-ferrand-124/
LOCATION:CLERMONT-FERRAND\, 63000\, France
END:VEVENT
END:VCALENDAR