BEGIN:VCALENDAR
VERSION:2.0
PRODID:-//Auvergne Optic Mobile - ECPv4.5.13//NONSGML v1.0//EN
CALSCALE:GREGORIAN
METHOD:PUBLISH
X-WR-CALNAME:Auvergne Optic Mobile
X-ORIGINAL-URL:https://www.auvergneopticmobile.fr
X-WR-CALDESC:Events for Auvergne Optic Mobile
BEGIN:VEVENT
DTSTART;TZID=Europe/Paris:20250618T090000
DTEND;TZID=Europe/Paris:20250618T120000
DTSTAMP:20260424T142522
CREATED:20250623T070908Z
LAST-MODIFIED:20250623T070908Z
UID:9894-1750237200-1750248000@www.auvergneopticmobile.fr
SUMMARY:LEZOUX
DESCRIPTION:
URL:https://www.auvergneopticmobile.fr/event/lezoux-23/
LOCATION:LEZOUX\, 63195\, France
END:VEVENT
BEGIN:VEVENT
DTSTART;TZID=Europe/Paris:20250618T153000
DTEND;TZID=Europe/Paris:20250618T200000
DTSTAMP:20260424T142522
CREATED:20250623T070937Z
LAST-MODIFIED:20250623T070937Z
UID:9897-1750260600-1750276800@www.auvergneopticmobile.fr
SUMMARY:AYDAT
DESCRIPTION:
URL:https://www.auvergneopticmobile.fr/event/aydat-36/
LOCATION:AYDAT\, 63970\, France
END:VEVENT
END:VCALENDAR