BEGIN:VCALENDAR
VERSION:2.0
PRODID:-//Auvergne Optic Mobile - ECPv4.5.13//NONSGML v1.0//EN
CALSCALE:GREGORIAN
METHOD:PUBLISH
X-WR-CALNAME:Auvergne Optic Mobile
X-ORIGINAL-URL:https://www.auvergneopticmobile.fr
X-WR-CALDESC:Events for Auvergne Optic Mobile
BEGIN:VEVENT
DTSTART;TZID=Europe/Paris:20250522T100000
DTEND;TZID=Europe/Paris:20250522T120000
DTSTAMP:20260423T033218
CREATED:20250610T080751Z
LAST-MODIFIED:20250610T080751Z
UID:9803-1747908000-1747915200@www.auvergneopticmobile.fr
SUMMARY:SAINT JEAN DES OLLIERES
DESCRIPTION:
URL:https://www.auvergneopticmobile.fr/event/saint-jean-ollieres-56/
LOCATION:SAINT JEAN DES OLLIERES\, 63520\, France
END:VEVENT
BEGIN:VEVENT
DTSTART;TZID=Europe/Paris:20250522T140000
DTEND;TZID=Europe/Paris:20250522T170000
DTSTAMP:20260423T033218
CREATED:20250610T080813Z
LAST-MODIFIED:20250610T080813Z
UID:9806-1747922400-1747933200@www.auvergneopticmobile.fr
SUMMARY:GERZAT
DESCRIPTION:
URL:https://www.auvergneopticmobile.fr/event/gerzat-127/
LOCATION:GERZAT\, 63360\, France Métropolitaine
END:VEVENT
END:VCALENDAR