BEGIN:VCALENDAR
VERSION:2.0
PRODID:-//Auvergne Optic Mobile - ECPv4.5.13//NONSGML v1.0//EN
CALSCALE:GREGORIAN
METHOD:PUBLISH
X-WR-CALNAME:Auvergne Optic Mobile
X-ORIGINAL-URL:https://www.auvergneopticmobile.fr
X-WR-CALDESC:Events for Auvergne Optic Mobile
BEGIN:VEVENT
DTSTART;TZID=Europe/Paris:20250506T100000
DTEND;TZID=Europe/Paris:20250506T120000
DTSTAMP:20260420T093208
CREATED:20250429T063052Z
LAST-MODIFIED:20250429T063052Z
UID:9747-1746525600-1746532800@www.auvergneopticmobile.fr
SUMMARY:THIERS
DESCRIPTION:
URL:https://www.auvergneopticmobile.fr/event/thiers-56/
END:VEVENT
BEGIN:VEVENT
DTSTART;TZID=Europe/Paris:20250506T140000
DTEND;TZID=Europe/Paris:20250506T170000
DTSTAMP:20260420T093208
CREATED:20250610T075850Z
LAST-MODIFIED:20250610T075850Z
UID:9755-1746540000-1746550800@www.auvergneopticmobile.fr
SUMMARY:LEZOUX
DESCRIPTION:
URL:https://www.auvergneopticmobile.fr/event/lezoux-22/
LOCATION:LEZOUX\, 63195\, France
END:VEVENT
END:VCALENDAR