BEGIN:VCALENDAR
VERSION:2.0
PRODID:-//Auvergne Optic Mobile - ECPv4.5.13//NONSGML v1.0//EN
CALSCALE:GREGORIAN
METHOD:PUBLISH
X-WR-CALNAME:Auvergne Optic Mobile
X-ORIGINAL-URL:https://www.auvergneopticmobile.fr
X-WR-CALDESC:Events for Auvergne Optic Mobile
BEGIN:VEVENT
DTSTART;TZID=Europe/Paris:20250324T100000
DTEND;TZID=Europe/Paris:20250324T120000
DTSTAMP:20260422T103935
CREATED:20250328T113240Z
LAST-MODIFIED:20250328T113240Z
UID:9582-1742810400-1742817600@www.auvergneopticmobile.fr
SUMMARY:SAINT JEAN DES OLLIERES
DESCRIPTION:
URL:https://www.auvergneopticmobile.fr/event/saint-jean-ollieres-54/
LOCATION:SAINT JEAN DES OLLIERES\, 63520\, France
END:VEVENT
BEGIN:VEVENT
DTSTART;TZID=Europe/Paris:20250324T130000
DTEND;TZID=Europe/Paris:20250324T140000
DTSTAMP:20260422T103935
CREATED:20250328T113520Z
LAST-MODIFIED:20250328T113520Z
UID:9585-1742821200-1742824800@www.auvergneopticmobile.fr
SUMMARY:RIOM
DESCRIPTION:
URL:https://www.auvergneopticmobile.fr/event/riom-20/
LOCATION:63200\, France
END:VEVENT
BEGIN:VEVENT
DTSTART;TZID=Europe/Paris:20250324T143000
DTEND;TZID=Europe/Paris:20250324T190000
DTSTAMP:20260422T103935
CREATED:20250328T113914Z
LAST-MODIFIED:20250328T113914Z
UID:9588-1742826600-1742842800@www.auvergneopticmobile.fr
SUMMARY:CEBAZAT
DESCRIPTION:
URL:https://www.auvergneopticmobile.fr/event/cebazat-76/
LOCATION:CEBAZAT\, 63118\, France
END:VEVENT
END:VCALENDAR