BEGIN:VCALENDAR
VERSION:2.0
PRODID:-//Auvergne Optic Mobile - ECPv4.5.13//NONSGML v1.0//EN
CALSCALE:GREGORIAN
METHOD:PUBLISH
X-WR-CALNAME:Auvergne Optic Mobile
X-ORIGINAL-URL:https://www.auvergneopticmobile.fr
X-WR-CALDESC:Events for Auvergne Optic Mobile
BEGIN:VEVENT
DTSTART;TZID=Europe/Paris:20250312T100000
DTEND;TZID=Europe/Paris:20250312T120000
DTSTAMP:20260420T080539
CREATED:20250228T072119Z
LAST-MODIFIED:20250228T072119Z
UID:9544-1741773600-1741780800@www.auvergneopticmobile.fr
SUMMARY:SAINT JEAN DES OLLIERES
DESCRIPTION:
URL:https://www.auvergneopticmobile.fr/event/saint-jean-ollieres-53/
LOCATION:SAINT JEAN DES OLLIERES\, 63520\, France
END:VEVENT
BEGIN:VEVENT
DTSTART;TZID=Europe/Paris:20250312T140000
DTEND;TZID=Europe/Paris:20250312T160000
DTSTAMP:20260420T080539
CREATED:20250228T072148Z
LAST-MODIFIED:20250228T072148Z
UID:9547-1741788000-1741795200@www.auvergneopticmobile.fr
SUMMARY:PONT DU CHATEAU
DESCRIPTION:
URL:https://www.auvergneopticmobile.fr/event/pont-du-chateau-64/
LOCATION:PONT DU CHATEAU\, 63430\, France
END:VEVENT
BEGIN:VEVENT
DTSTART;TZID=Europe/Paris:20250312T163000
DTEND;TZID=Europe/Paris:20250312T183000
DTSTAMP:20260420T080539
CREATED:20250228T072228Z
LAST-MODIFIED:20250228T072228Z
UID:9550-1741797000-1741804200@www.auvergneopticmobile.fr
SUMMARY:BILLOM
DESCRIPTION:
URL:https://www.auvergneopticmobile.fr/event/billom-98/
LOCATION:63160
END:VEVENT
END:VCALENDAR