BEGIN:VCALENDAR
VERSION:2.0
PRODID:-//Auvergne Optic Mobile - ECPv4.5.13//NONSGML v1.0//EN
CALSCALE:GREGORIAN
METHOD:PUBLISH
X-WR-CALNAME:Auvergne Optic Mobile
X-ORIGINAL-URL:https://www.auvergneopticmobile.fr
X-WR-CALDESC:Events for Auvergne Optic Mobile
BEGIN:VEVENT
DTSTART;TZID=Europe/Paris:20250116T080000
DTEND;TZID=Europe/Paris:20250116T120000
DTSTAMP:20260422T232146
CREATED:20250117T110251Z
LAST-MODIFIED:20250117T110251Z
UID:9358-1737014400-1737028800@www.auvergneopticmobile.fr
SUMMARY:CLERMONT FERRAND
DESCRIPTION:
URL:https://www.auvergneopticmobile.fr/event/clermont-ferrand-91/
LOCATION:CLERMONT-FERRAND\, 63000\, France
END:VEVENT
BEGIN:VEVENT
DTSTART;TZID=Europe/Paris:20250116T140000
DTEND;TZID=Europe/Paris:20250116T160000
DTSTAMP:20260422T232146
CREATED:20250117T110339Z
LAST-MODIFIED:20250117T110339Z
UID:9361-1737036000-1737043200@www.auvergneopticmobile.fr
SUMMARY:ARDES SUR COUZE
DESCRIPTION:
URL:https://www.auvergneopticmobile.fr/event/ardes-sur-couze-16/
LOCATION:ARDES SUR COUZE\, 63420\, France
END:VEVENT
BEGIN:VEVENT
DTSTART;TZID=Europe/Paris:20250116T163000
DTEND;TZID=Europe/Paris:20250116T200000
DTSTAMP:20260422T232146
CREATED:20250117T110506Z
LAST-MODIFIED:20250117T110506Z
UID:9364-1737045000-1737057600@www.auvergneopticmobile.fr
SUMMARY:MURAT LE QUAIRE
DESCRIPTION:
URL:https://www.auvergneopticmobile.fr/event/murat-le-quaire/
LOCATION:MURAT LE QUAIRE\, 63150\, France
END:VEVENT
END:VCALENDAR