BEGIN:VCALENDAR
VERSION:2.0
PRODID:-//Auvergne Optic Mobile - ECPv4.5.13//NONSGML v1.0//EN
CALSCALE:GREGORIAN
METHOD:PUBLISH
X-WR-CALNAME:Auvergne Optic Mobile
X-ORIGINAL-URL:https://www.auvergneopticmobile.fr
X-WR-CALDESC:Events for Auvergne Optic Mobile
BEGIN:VEVENT
DTSTART;TZID=Europe/Paris:20250106T090000
DTEND;TZID=Europe/Paris:20250106T120000
DTSTAMP:20260423T123712
CREATED:20250117T104820Z
LAST-MODIFIED:20250117T104820Z
UID:9292-1736154000-1736164800@www.auvergneopticmobile.fr
SUMMARY:SAINT AMANT TALLENDE
DESCRIPTION:
URL:https://www.auvergneopticmobile.fr/event/saint-amant-tallende-28/
LOCATION:SAINT AMANT TALLENDE\, 63450\, France
END:VEVENT
BEGIN:VEVENT
DTSTART;TZID=Europe/Paris:20250106T140000
DTEND;TZID=Europe/Paris:20250106T160000
DTSTAMP:20260423T123712
CREATED:20250117T104850Z
LAST-MODIFIED:20250117T104850Z
UID:9295-1736172000-1736179200@www.auvergneopticmobile.fr
SUMMARY:BILLOM
DESCRIPTION:
URL:https://www.auvergneopticmobile.fr/event/billom-91/
LOCATION:63160
END:VEVENT
BEGIN:VEVENT
DTSTART;TZID=Europe/Paris:20250106T160000
DTEND;TZID=Europe/Paris:20250106T190000
DTSTAMP:20260423T123712
CREATED:20250117T105029Z
LAST-MODIFIED:20250117T105029Z
UID:9298-1736179200-1736190000@www.auvergneopticmobile.fr
SUMMARY:AUBIERE
DESCRIPTION:
URL:https://www.auvergneopticmobile.fr/event/aubiere-38/
LOCATION:AUBIERE\, 63170\, France
END:VEVENT
END:VCALENDAR