BEGIN:VCALENDAR
VERSION:2.0
PRODID:-//Auvergne Optic Mobile - ECPv4.5.13//NONSGML v1.0//EN
CALSCALE:GREGORIAN
METHOD:PUBLISH
X-WR-CALNAME:Auvergne Optic Mobile
X-ORIGINAL-URL:https://www.auvergneopticmobile.fr
X-WR-CALDESC:Events for Auvergne Optic Mobile
BEGIN:VEVENT
DTSTART;TZID=Europe/Paris:20241121T100000
DTEND;TZID=Europe/Paris:20241121T120000
DTSTAMP:20260425T230749
CREATED:20241212T092936Z
LAST-MODIFIED:20241212T092936Z
UID:9279-1732183200-1732190400@www.auvergneopticmobile.fr
SUMMARY:AYDAT
DESCRIPTION:
URL:https://www.auvergneopticmobile.fr/event/aydat-29/
LOCATION:AYDAT\, 63970\, France
END:VEVENT
BEGIN:VEVENT
DTSTART;TZID=Europe/Paris:20241121T140000
DTEND;TZID=Europe/Paris:20241121T160000
DTSTAMP:20260425T230749
CREATED:20241212T093344Z
LAST-MODIFIED:20241212T093344Z
UID:9282-1732197600-1732204800@www.auvergneopticmobile.fr
SUMMARY:ENNEZAT
DESCRIPTION:
URL:https://www.auvergneopticmobile.fr/event/ennezat-31/
LOCATION:ENNEZAT\, 63720\, France
END:VEVENT
BEGIN:VEVENT
DTSTART;TZID=Europe/Paris:20241121T163000
DTEND;TZID=Europe/Paris:20241121T190000
DTSTAMP:20260425T230749
CREATED:20241212T093413Z
LAST-MODIFIED:20241212T093413Z
UID:9285-1732206600-1732215600@www.auvergneopticmobile.fr
SUMMARY:CEBAZAT
DESCRIPTION:
URL:https://www.auvergneopticmobile.fr/event/cebazat-70/
LOCATION:CEBAZAT\, 63118\, France
END:VEVENT
END:VCALENDAR