BEGIN:VCALENDAR
VERSION:2.0
PRODID:-//Auvergne Optic Mobile - ECPv4.5.13//NONSGML v1.0//EN
CALSCALE:GREGORIAN
METHOD:PUBLISH
X-WR-CALNAME:Auvergne Optic Mobile
X-ORIGINAL-URL:https://www.auvergneopticmobile.fr
X-WR-CALDESC:Events for Auvergne Optic Mobile
BEGIN:VEVENT
DTSTART;TZID=Europe/Paris:20210105T140000
DTEND;TZID=Europe/Paris:20210105T170000
DTSTAMP:20260425T195029
CREATED:20210104T072056Z
LAST-MODIFIED:20210104T072056Z
UID:4544-1609855200-1609866000@www.auvergneopticmobile.fr
SUMMARY:SINGLES
DESCRIPTION:
URL:https://www.auvergneopticmobile.fr/event/singles/
LOCATION:SINGLES\, 63421\, France
END:VEVENT
END:VCALENDAR